BEGIN:VCALENDAR
VERSION:2.0
PRODID:-//RCSC Training - ECPv6.15.20//NONSGML v1.0//EN
CALSCALE:GREGORIAN
METHOD:PUBLISH
X-ORIGINAL-URL:https://rcsctraining.co.uk
X-WR-CALDESC:Events for RCSC Training
REFRESH-INTERVAL;VALUE=DURATION:PT1H
X-Robots-Tag:noindex
X-PUBLISHED-TTL:PT1H
BEGIN:VTIMEZONE
TZID:UTC
BEGIN:STANDARD
TZOFFSETFROM:+0000
TZOFFSETTO:+0000
TZNAME:UTC
DTSTART:20240101T000000
END:STANDARD
END:VTIMEZONE
BEGIN:VEVENT
DTSTART;TZID=UTC:20251117T090000
DTEND;TZID=UTC:20251117T163000
DTSTAMP:20260421T230548
CREATED:20250617T100406Z
LAST-MODIFIED:20250903T092517Z
UID:10000081-1763370000-1763397000@rcsctraining.co.uk
SUMMARY:Counterbalance FLT (B1) Refresher - AITT
DESCRIPTION:This course is suitable for experienced Counterbalance B1 (up to 5\,000kg capacity) lift truck operators whose certificate is due to expire or has recently expired. \nTraining is accredited by the Association of Industrial Truck Trainers (AITT).
URL:https://rcsctraining.co.uk/course/counterbalance-flt-b1-refresher-aitt-8/
LOCATION:RCSC Training\, 8 Darklake View\, Estover\, Plymouth\, Devon\, PL6 7TL\, United Kingdom
CATEGORIES:Counterbalance/Reach
ORGANIZER;CN="Sam Hay":MAILTO:training@rcsctraining.co.uk
END:VEVENT
END:VCALENDAR