BEGIN:VCALENDAR
VERSION:2.0
PRODID:-//RCSC Training - ECPv6.15.20//NONSGML v1.0//EN
CALSCALE:GREGORIAN
METHOD:PUBLISH
X-ORIGINAL-URL:https://rcsctraining.co.uk
X-WR-CALDESC:Events for RCSC Training
REFRESH-INTERVAL;VALUE=DURATION:PT1H
X-Robots-Tag:noindex
X-PUBLISHED-TTL:PT1H
BEGIN:VTIMEZONE
TZID:UTC
BEGIN:STANDARD
TZOFFSETFROM:+0000
TZOFFSETTO:+0000
TZNAME:UTC
DTSTART:20240101T000000
END:STANDARD
END:VTIMEZONE
BEGIN:VEVENT
DTSTART;TZID=UTC:20251103T090000
DTEND;TZID=UTC:20251105T163000
DTSTAMP:20260421T135438
CREATED:20250612T131033Z
LAST-MODIFIED:20250612T131033Z
UID:10000079-1762160400-1762360200@rcsctraining.co.uk
SUMMARY:Crane/Lift Supervisor - NPORS
DESCRIPTION:This NPORS accredited Crane/Lift Supervisor (N405) course is suitable for novice or semi-experienced candidates looking to gain certification for supervising lifting operations in accordance with the requirements of BS7121 Approved Code of Practice. \nCandidates will gain an understanding of legal and practical requirements to ensure that lifting activity can be carried out safely and in accordance with the lifting plan.
URL:https://rcsctraining.co.uk/course/crane-lift-supervisor-npors-3/
LOCATION:RCSC Training\, 8 Darklake View\, Estover\, Plymouth\, Devon\, PL6 7TL\, United Kingdom
CATEGORIES:Lift Supervisor
ORGANIZER;CN="Sam Hay":MAILTO:training@rcsctraining.co.uk
END:VEVENT
END:VCALENDAR