BEGIN:VCALENDAR
VERSION:2.0
PRODID:-//RCSC Training - ECPv6.15.20//NONSGML v1.0//EN
CALSCALE:GREGORIAN
METHOD:PUBLISH
X-ORIGINAL-URL:https://rcsctraining.co.uk
X-WR-CALDESC:Events for RCSC Training
REFRESH-INTERVAL;VALUE=DURATION:PT1H
X-Robots-Tag:noindex
X-PUBLISHED-TTL:PT1H
BEGIN:VTIMEZONE
TZID:UTC
BEGIN:STANDARD
TZOFFSETFROM:+0000
TZOFFSETTO:+0000
TZNAME:UTC
DTSTART:20240101T000000
END:STANDARD
END:VTIMEZONE
BEGIN:VEVENT
DTSTART;TZID=UTC:20251113T090000
DTEND;TZID=UTC:20251113T163000
DTSTAMP:20260424T204521
CREATED:20251020T113328Z
LAST-MODIFIED:20251020T113328Z
UID:10000101-1763024400-1763051400@rcsctraining.co.uk
SUMMARY:Telescopic Handler Refresher (NPORS)
DESCRIPTION:This telescopic handler (telehandler) refresher with NPORS accreditation is suitable for experienced operators looking to renew their certification. \nWith training taking place at our Plymouth centre\, we have a 12.5m JCB machine and 9m loading tower allowing you to achieve an unrestricted (all sizes) certificate.
URL:https://rcsctraining.co.uk/course/telescopic-handler-refresher-npors/
LOCATION:RCSC Training\, 8 Darklake View\, Estover\, Plymouth\, Devon\, PL6 7TL\, United Kingdom
CATEGORIES:Telehandler
ORGANIZER;CN="Sam Hay":MAILTO:training@rcsctraining.co.uk
END:VEVENT
END:VCALENDAR