BEGIN:VCALENDAR
VERSION:2.0
PRODID:-//RCSC Training - ECPv6.15.20//NONSGML v1.0//EN
CALSCALE:GREGORIAN
METHOD:PUBLISH
X-WR-CALNAME:RCSC Training
X-ORIGINAL-URL:https://rcsctraining.co.uk
X-WR-CALDESC:Events for RCSC Training
REFRESH-INTERVAL;VALUE=DURATION:PT1H
X-Robots-Tag:noindex
X-PUBLISHED-TTL:PT1H
BEGIN:VTIMEZONE
TZID:UTC
BEGIN:STANDARD
TZOFFSETFROM:+0000
TZOFFSETTO:+0000
TZNAME:UTC
DTSTART:20250101T000000
END:STANDARD
END:VTIMEZONE
BEGIN:VEVENT
DTSTART;TZID=UTC:20260105T090000
DTEND;TZID=UTC:20260116T170000
DTSTAMP:20260424T173056
CREATED:20251103T112747Z
LAST-MODIFIED:20251103T112843Z
UID:10000104-1767603600-1768582800@rcsctraining.co.uk
SUMMARY:AITT Instructor - 10 Day (Novice)
DESCRIPTION:This course is suitable for novice instructor candidates who wish to qualify to deliver either in-house and/or AITT accredited training. \n  \nThe course will be based on a Counterbalance Lift Truck\, so candidates must have a minimum of 6 months’ operational experience with this type of equipment. Once qualified\, you will be eligible to deliver in-house and/or AITT accredited training on equipment which you have yourself been certified as an operator. \n  \nTo attend this course\, no previous teaching experience is necessary. If you have previous teaching experience and/or qualifications\, you may be eligible for the 5-day version of this course. Please contact us to discuss if you are unsure. \n  \nThe course will run from 5-9 and 12-16 December (Monday to Friday\, two consecutive weeks).
URL:https://rcsctraining.co.uk/course/aitt-instructor-novice/
LOCATION:RCSC Training\, 8 Darklake View\, Estover\, Plymouth\, Devon\, PL6 7TL\, United Kingdom
CATEGORIES:Counterbalance/Reach,Instructor Training
ORGANIZER;CN="Sam Hay":MAILTO:training@rcsctraining.co.uk
END:VEVENT
BEGIN:VEVENT
DTSTART;TZID=UTC:20260112T090000
DTEND;TZID=UTC:20260116T170000
DTSTAMP:20260424T173056
CREATED:20251103T113415Z
LAST-MODIFIED:20251103T152437Z
UID:10000105-1768208400-1768582800@rcsctraining.co.uk
SUMMARY:AITT Instructor - 5 Day (Re-reg or Direct Entry)
DESCRIPTION:This course is suitable for either re-registering instructor candidates who are coming up to their 5-year expiry and/or candidates who are already qualified as an instructor with another accrediting body but wish to qualify as an AITT accredited instructor (direct entry). \n  \nThe course will be based on a Counterbalance Lift Truck. On successful completion\, you will be eligible to deliver in-house and/or AITT accredited training on equipment which you are yourself certified as an operator. \n  \nThe course will run from 12-16 December (Monday to Friday).
URL:https://rcsctraining.co.uk/course/aitt-instructor-5-day-rereg-direct-entry/
LOCATION:RCSC Training\, 8 Darklake View\, Estover\, Plymouth\, Devon\, PL6 7TL\, United Kingdom
CATEGORIES:Counterbalance/Reach,Instructor Training
ORGANIZER;CN="Sam Hay":MAILTO:training@rcsctraining.co.uk
END:VEVENT
BEGIN:VEVENT
DTSTART;TZID=UTC:20260119T090000
DTEND;TZID=UTC:20260119T163000
DTSTAMP:20260424T173056
CREATED:20251219T152234Z
LAST-MODIFIED:20251219T152234Z
UID:10000109-1768813200-1768840200@rcsctraining.co.uk
SUMMARY:NPORS Plant Machinery Marshal (N133)
DESCRIPTION:This course will lead to the NPORS N133 Plant Machinery Marshal qualification. For candidates with a valid CITB Health Safety & Environment test\, this can also lead to the NPORS CSCS (trained/competent operator) card. \nDuring the course\, you will understand legal and site safety requirements; correct signals for banking vehicles and plant as per the applicable Code of Practice; how to effectively assess for hazards and the main hazards affecting operators\, marshals and other site workers\, PPE requirements and so on.
URL:https://rcsctraining.co.uk/course/npors-plant-machinery-marshal-n133-3/
LOCATION:RCSC Training\, 8 Darklake View\, Estover\, Plymouth\, Devon\, PL6 7TL\, United Kingdom
CATEGORIES:Marshal/Banksman
END:VEVENT
END:VCALENDAR